BEGIN:VCALENDAR
VERSION:2.0
PRODID:-//Fifield Sno Drovers Snowmobile Club - ECPv6.15.17.1//NONSGML v1.0//EN
CALSCALE:GREGORIAN
METHOD:PUBLISH
X-ORIGINAL-URL:https://snodrovers.com
X-WR-CALDESC:Events for Fifield Sno Drovers Snowmobile Club
REFRESH-INTERVAL;VALUE=DURATION:PT1H
X-Robots-Tag:noindex
X-PUBLISHED-TTL:PT1H
BEGIN:VTIMEZONE
TZID:America/Chicago
BEGIN:DAYLIGHT
TZOFFSETFROM:-0600
TZOFFSETTO:-0500
TZNAME:CDT
DTSTART:20240310T080000
END:DAYLIGHT
BEGIN:STANDARD
TZOFFSETFROM:-0500
TZOFFSETTO:-0600
TZNAME:CST
DTSTART:20241103T070000
END:STANDARD
BEGIN:DAYLIGHT
TZOFFSETFROM:-0600
TZOFFSETTO:-0500
TZNAME:CDT
DTSTART:20250309T080000
END:DAYLIGHT
BEGIN:STANDARD
TZOFFSETFROM:-0500
TZOFFSETTO:-0600
TZNAME:CST
DTSTART:20251102T070000
END:STANDARD
BEGIN:DAYLIGHT
TZOFFSETFROM:-0600
TZOFFSETTO:-0500
TZNAME:CDT
DTSTART:20260308T080000
END:DAYLIGHT
BEGIN:STANDARD
TZOFFSETFROM:-0500
TZOFFSETTO:-0600
TZNAME:CST
DTSTART:20261101T070000
END:STANDARD
END:VTIMEZONE
BEGIN:VEVENT
DTSTART;TZID=America/Chicago:20250201T160000
DTEND;TZID=America/Chicago:20250201T220000
DTSTAMP:20260421T051845
CREATED:20250113T145907Z
LAST-MODIFIED:20250128T221158Z
UID:3029-1738425600-1738447200@snodrovers.com
SUMMARY:Winter Run Bus Tour
DESCRIPTION:It’s back!  Winter Run Bus Tour! \nDate:  Saturday\, February 1\, 2025\nTime:  Bus leaves at 4:00 PM\nWhere:  Bus leaves from Moose Jaw\nCost:  $10 per rider (additionally\, each rider must have a Winter Run sheet) \nBack by popular demand (and unfortunately due to lack of snow)\, we are hosting another Winter Run Bus Tour. \nJoin us on Saturday\, February 1st for an evening full of fun.  The bus will leave from Moose Jaw at 4:00 PM and will make a tour of Winter Run sponsors.  This is a great chance for you to get out\, visit sponsors\, get stamps on your Winter Run sheet\, and not have to worry about driving! \nRoute:  Moose Jaw\, Musky Jack’s\, Wintergreen\, Merri Cassidy’s\, The Lanes\, Jack’s Corner Bar\, Sugarbush\, and Riverside \nYou must have a Winter Run sheet to ride the bus.  Sheets will be available for purchase if you need one. \nAdditionally\, there is a $10 fee per rider to help defray the cost of the bus. \nWe hope to see you there!
URL:https://snodrovers.com/event/winter-run-bus-tour-7/
LOCATION:Moose Jaw/Woods Edge\, N15098 Shady Knoll Rd.\, Park Falls\, WI\, 54552
CATEGORIES:Special Event
ATTACH;FMTTYPE=image/png:https://snodrovers.com/wp-content/uploads/2024/01/Bus-Tour.png
END:VEVENT
BEGIN:VEVENT
DTSTART;TZID=America/Chicago:20250209T120000
DTEND;TZID=America/Chicago:20250209T163000
DTSTAMP:20260421T051845
CREATED:20250128T221426Z
LAST-MODIFIED:20250205T154054Z
UID:3053-1739102400-1739118600@snodrovers.com
SUMMARY:CANCELED:  Winter Run Bus Tour
DESCRIPTION:The Winter Run Bus Tour scheduled for Sunday\, February 9th has been cancelled. \nROUND 2!  Winter Run Bus Tour! \nDate:  Sunday\, February 9\, 2025\nTime:  Bus leaves at Noon\nWhere:  Bus leaves from The Big Dipper\nCost:  $10 per rider (additionally\, each rider must have a Winter Run sheet) \nNote:  We WILL return prior to kickoff of the Super Bowl. \nBack by popular demand (and unfortunately due to lack of snow)\, we are hosting another Winter Run Bus Tour. \nJoin us on Sunday\, February 9th for an evening full of fun.  The bus will leave from The Big Dipper at Noon and will make a tour of Winter Run sponsors.  This is a great chance for you to get out\, visit sponsors\, get stamps on your Winter Run sheet\, and not have to worry about driving! \nRoute:  The Big Dipper\, Idle Hour\, Polish Palace\, Timbers\, Sunset Lakehouse\, Crane Chase\, Oxbo\, The Outhouse\, Singer’s OK Corral \nYou must have a Winter Run sheet to ride the bus.  Sheets will be available for purchase if you need one. \nAdditionally\, there is a $10 fee per rider to help defray the cost of the bus. \nWe hope to see you there!
URL:https://snodrovers.com/event/winter-run-bus-tour-8/
LOCATION:The Big Dipper\, N14492 Shady Knoll Rd.\, Park Falls\, WI\, 54552
CATEGORIES:Special Event
ATTACH;FMTTYPE=image/png:https://snodrovers.com/wp-content/uploads/2024/01/Bus-Tour.png
END:VEVENT
BEGIN:VEVENT
DTSTART;TZID=America/Chicago:20250221T160000
DTEND;TZID=America/Chicago:20250221T220000
DTSTAMP:20260421T051845
CREATED:20250204T162256Z
LAST-MODIFIED:20250217T164140Z
UID:3060-1740153600-1740175200@snodrovers.com
SUMMARY:CANCELED:  Winter Run Bus Tour
DESCRIPTION:CANCELED:  With the trails open\, we encourage people to get on their sleds and enjoy the trails while they can.  Please make a point to stop at our sponsors and thank them for their support. \n  \nROUND 3!  Winter Run Bus Tour! \nDate:  Friday\, February 21\, 2025\nTime:  Bus leaves at 4:00 PM\nWhere:  Bus leaves from Moose Jaw\nCost:  $10 per rider (additionally\, each rider must have a Winter Run sheet) \nSeating on the bus is limited.  Reserve your spot by RSVP’ing below. \nBack by popular demand (and unfortunately due to lack of snow)\, we are hosting another Winter Run Bus Tour. \nJoin us on Friday\, February 21st for an evening full of fun.  The bus will leave from Moose Jaw at 4:00 PM and will make a tour of Winter Run sponsors.  This is a great chance for you to get out\, visit sponsors\, get stamps on your Winter Run sheet\, and not have to worry about driving! \nRoute:  Lena’s Northern Pines\, Bobber’s on the Lake\, Double D’s\, Midway\, Sunken Horse\, Beaver’s Resort\, Donner’s Bay\, The Grove\, MT Pockets\, Moose Jaw \nYou must have a Winter Run sheet to ride the bus.  Sheets will be available for purchase if you need one. \nAdditionally\, there is a $10 fee per rider to help defray the cost of the bus. \nWe hope to see you there!
URL:https://snodrovers.com/event/winter-run-bus-tour-9/
LOCATION:Moose Jaw/Woods Edge\, N15098 Shady Knoll Rd.\, Park Falls\, WI\, 54552
CATEGORIES:Special Event
ATTACH;FMTTYPE=image/png:https://snodrovers.com/wp-content/uploads/2024/01/Bus-Tour.png
END:VEVENT
END:VCALENDAR