BEGIN:VCALENDAR
VERSION:2.0
PRODID:-//Fifield Sno Drovers Snowmobile Club - ECPv6.15.17.1//NONSGML v1.0//EN
CALSCALE:GREGORIAN
METHOD:PUBLISH
X-ORIGINAL-URL:https://snodrovers.com
X-WR-CALDESC:Events for Fifield Sno Drovers Snowmobile Club
REFRESH-INTERVAL;VALUE=DURATION:PT1H
X-Robots-Tag:noindex
X-PUBLISHED-TTL:PT1H
BEGIN:VTIMEZONE
TZID:America/Chicago
BEGIN:DAYLIGHT
TZOFFSETFROM:-0600
TZOFFSETTO:-0500
TZNAME:CDT
DTSTART:20240310T080000
END:DAYLIGHT
BEGIN:STANDARD
TZOFFSETFROM:-0500
TZOFFSETTO:-0600
TZNAME:CST
DTSTART:20241103T070000
END:STANDARD
BEGIN:DAYLIGHT
TZOFFSETFROM:-0600
TZOFFSETTO:-0500
TZNAME:CDT
DTSTART:20250309T080000
END:DAYLIGHT
BEGIN:STANDARD
TZOFFSETFROM:-0500
TZOFFSETTO:-0600
TZNAME:CST
DTSTART:20251102T070000
END:STANDARD
BEGIN:DAYLIGHT
TZOFFSETFROM:-0600
TZOFFSETTO:-0500
TZNAME:CDT
DTSTART:20260308T080000
END:DAYLIGHT
BEGIN:STANDARD
TZOFFSETFROM:-0500
TZOFFSETTO:-0600
TZNAME:CST
DTSTART:20261101T070000
END:STANDARD
END:VTIMEZONE
BEGIN:VEVENT
DTSTART;TZID=America/Chicago:20251108T180000
DTEND;TZID=America/Chicago:20251108T220000
DTSTAMP:20260421T083156
CREATED:20220829T182022Z
LAST-MODIFIED:20251105T171810Z
UID:917-1762624800-1762639200@snodrovers.com
SUMMARY:Kickoff Party
DESCRIPTION:Annual Sno Drover Kickoff Party –  \nSaturday\, November 8th\n6:00 PM\nMoose Jaw Resort \nJoin us for a night of food\, raffles\, and fun as we kick off the start of another exciting snowmobiling season! \nFood will be provided by the club.  Members are encouraged to bring a DESSERT to pass. \nNew members welcome! \n 
URL:https://snodrovers.com/event/kickoff-party/
LOCATION:Moose Jaw/Woods Edge\, N15098 Shady Knoll Rd.\, Park Falls\, WI\, 54552
CATEGORIES:Special Event
ATTACH;FMTTYPE=image/png:https://snodrovers.com/wp-content/uploads/2022/08/Kickoff-Party-2025.png
END:VEVENT
END:VCALENDAR