BEGIN:VCALENDAR
VERSION:2.0
PRODID:-//Fifield Sno Drovers Snowmobile Club - ECPv6.15.17.1//NONSGML v1.0//EN
CALSCALE:GREGORIAN
METHOD:PUBLISH
X-ORIGINAL-URL:https://snodrovers.com
X-WR-CALDESC:Events for Fifield Sno Drovers Snowmobile Club
REFRESH-INTERVAL;VALUE=DURATION:PT1H
X-Robots-Tag:noindex
X-PUBLISHED-TTL:PT1H
BEGIN:VTIMEZONE
TZID:America/Chicago
BEGIN:DAYLIGHT
TZOFFSETFROM:-0600
TZOFFSETTO:-0500
TZNAME:CDT
DTSTART:20230312T080000
END:DAYLIGHT
BEGIN:STANDARD
TZOFFSETFROM:-0500
TZOFFSETTO:-0600
TZNAME:CST
DTSTART:20231105T070000
END:STANDARD
BEGIN:DAYLIGHT
TZOFFSETFROM:-0600
TZOFFSETTO:-0500
TZNAME:CDT
DTSTART:20240310T080000
END:DAYLIGHT
BEGIN:STANDARD
TZOFFSETFROM:-0500
TZOFFSETTO:-0600
TZNAME:CST
DTSTART:20241103T070000
END:STANDARD
BEGIN:DAYLIGHT
TZOFFSETFROM:-0600
TZOFFSETTO:-0500
TZNAME:CDT
DTSTART:20250309T080000
END:DAYLIGHT
BEGIN:STANDARD
TZOFFSETFROM:-0500
TZOFFSETTO:-0600
TZNAME:CST
DTSTART:20251102T070000
END:STANDARD
END:VTIMEZONE
BEGIN:VEVENT
DTSTART;TZID=America/Chicago:20240119T161500
DTEND;TZID=America/Chicago:20240119T210000
DTSTAMP:20260424T175131
CREATED:20240116T163259Z
LAST-MODIFIED:20240116T163259Z
UID:2298-1705680900-1705698000@snodrovers.com
SUMMARY:Winter Run Bus Tour
DESCRIPTION:Winter Run Bus Tour – Round 2!\n\n\nWe had such a great response this past weekend\, we’re going to do it again! Since we don’t have enough snow to open our trails\, we’re organizing a bus tour to visit our sponsors. It’s a double whammy! Support our sponsors AND get your Winter Run sheet stamped. We’ve got a whole new group of sponsor locations to visit this weekend!\n\n\n\nCost is $10 per person plus a driver tip.\n\n\nJoin us on one trip or join us for all of them! If you’d like to reserve a spot\, contact Melissa at treasurer@snodrovers.com.\n\n\n\nThursday (1/18):\nBus leaves promptly at 5:00pm from The Birches.\n\nStops include The Birches\, Springstead Lake Lodge\, Round Up\, Sugarbush\, Peninsula Pines\, and Big Musky Lounge.\n\n\n\n\nFriday (1/19):\nThere will be two pickups for this tour.\n\nThe first pickup will be at the Newman Springs Parking Lot on Hwy 182. The bus will leave promptly at 4:15pm from the parking lot.\nThe second pickup will be at Ridge Runners. The bus will leave promptly at 5:30pm from Ridge Runners.\n\nStops include Ridge Runners\, Lena’s\, Bobber’s on the Lake\, Jack’s Corner Bar\, and Midway. \n\n\n\nSunday (1/21):\nThere will be two pickups for this tour.\n\nThe first pickup will be at the Newman Springs Parking Lot on Hwy 182. The bus will leave promptly at 12:15pm from the parking lot.\nThe second pickup will be at Double D’s. The bus will leave promptly at 1:30pm from Double D’s.\n\nStops include Double D’s\, Donner’s Bay\, Beaver’s Resort\, Sunken Horse Saloon\, and Maple Grove.
URL:https://snodrovers.com/event/winter-run-bus-tour-5/
CATEGORIES:Special Event
ATTACH;FMTTYPE=image/png:https://snodrovers.com/wp-content/uploads/2024/01/Bus-Tour.png
END:VEVENT
END:VCALENDAR