BEGIN:VCALENDAR
VERSION:2.0
PRODID:-//Fifield Sno Drovers Snowmobile Club - ECPv6.15.17.1//NONSGML v1.0//EN
CALSCALE:GREGORIAN
METHOD:PUBLISH
X-ORIGINAL-URL:https://snodrovers.com
X-WR-CALDESC:Events for Fifield Sno Drovers Snowmobile Club
REFRESH-INTERVAL;VALUE=DURATION:PT1H
X-Robots-Tag:noindex
X-PUBLISHED-TTL:PT1H
BEGIN:VTIMEZONE
TZID:America/Chicago
BEGIN:DAYLIGHT
TZOFFSETFROM:-0600
TZOFFSETTO:-0500
TZNAME:CDT
DTSTART:20250309T080000
END:DAYLIGHT
BEGIN:STANDARD
TZOFFSETFROM:-0500
TZOFFSETTO:-0600
TZNAME:CST
DTSTART:20251102T070000
END:STANDARD
BEGIN:DAYLIGHT
TZOFFSETFROM:-0600
TZOFFSETTO:-0500
TZNAME:CDT
DTSTART:20260308T080000
END:DAYLIGHT
BEGIN:STANDARD
TZOFFSETFROM:-0500
TZOFFSETTO:-0600
TZNAME:CST
DTSTART:20261101T070000
END:STANDARD
BEGIN:DAYLIGHT
TZOFFSETFROM:-0600
TZOFFSETTO:-0500
TZNAME:CDT
DTSTART:20270314T080000
END:DAYLIGHT
BEGIN:STANDARD
TZOFFSETFROM:-0500
TZOFFSETTO:-0600
TZNAME:CST
DTSTART:20271107T070000
END:STANDARD
END:VTIMEZONE
BEGIN:VEVENT
DTSTART;TZID=America/Chicago:20260117T160000
DTEND;TZID=America/Chicago:20260117T220000
DTSTAMP:20260425T054059
CREATED:20250902T183232Z
LAST-MODIFIED:20251013T213128Z
UID:3301-1768665600-1768687200@snodrovers.com
SUMMARY:Winter Run Bus Tour
DESCRIPTION:It’s back!  Winter Run Bus Tour! \nDate:  Saturday\, January 17\, 2026\nTime:  Bus leaves at 4:00 PM\nWhere:  Bus leaves from Moose Jaw\nCost:  $10 per rider (additionally\, each rider must have a Winter Run sheet) \nBack by popular demand\, we are hosting another Winter Run Bus Tour. \nJoin us on Saturday\, January 17th for an evening full of fun.  The bus will leave from Moose Jaw at 4:00 PM and will make a tour of Winter Run sponsors.  This is a great chance for you to get out\, visit sponsors\, get stamps on your Winter Run sheet\, and not have to worry about driving! \nRoute:  TBD \nYou must have a Winter Run sheet to ride the bus.  Sheets will be available for purchase if you need one. \nAdditionally\, there is a $10 fee per rider to help defray the cost of the bus. \nWe hope to see you there!
URL:https://snodrovers.com/event/winter-run-bus-tour-10/
LOCATION:Moose Jaw/Woods Edge\, N15098 Shady Knoll Rd.\, Park Falls\, WI\, 54552
CATEGORIES:Special Event
ATTACH;FMTTYPE=image/png:https://snodrovers.com/wp-content/uploads/2024/01/Bus-Tour.png
END:VEVENT
BEGIN:VEVENT
DTSTART;TZID=America/Chicago:20260131T110000
DTEND;TZID=America/Chicago:20260131T140000
DTSTAMP:20260425T054059
CREATED:20251105T203437Z
LAST-MODIFIED:20251105T205652Z
UID:3432-1769857200-1769868000@snodrovers.com
SUMMARY:Snowmobile Friendly County Welcome
DESCRIPTION:What:  Snowmobile Friendly County Welcome Event\nWhen:  Saturday\, January 31st\nTime:  11AM – 2PM\nWhere:  Trail 101/Corridor 10 – At the Oneida/Price County line \nThe Fifield Sno Drovers will be on Trail 101/Corridor 10 at the Oneida/Price County line on Saturday\, January 31st from 11AM – 2PM to welcome snowmobilers to Price County\, a Snowmobile Friendly County. \nWe will have our groomer and drag on site for viewing and will have a warming fire. \nTo welcome sledders to Price County\, we will be giving out $2 gift certificates redeemable for a food item at the four establishments local to the Pike Lake area.
URL:https://snodrovers.com/event/snowmobile-friendly-county-welcome/
CATEGORIES:Special Event
ATTACH;FMTTYPE=image/png:https://snodrovers.com/wp-content/uploads/2025/11/Snowmobile-Friendly-County-1.png
END:VEVENT
BEGIN:VEVENT
DTSTART;TZID=America/Chicago:20260221T170000
DTEND;TZID=America/Chicago:20260221T220000
DTSTAMP:20260425T054059
CREATED:20221221T171220Z
LAST-MODIFIED:20260128T145833Z
UID:1601-1771693200-1771711200@snodrovers.com
SUMMARY:Winter Run Grand Finale
DESCRIPTION:Fifield Sno Drovers 2026 Winter Run –  \nThursday\, January 15th – Saturday\, February 21st\nGrand Finale at Sugarbush Bar on Saturday\, February 21st.\nDoors open at 5 PM.\nCompleted sheets must be turned in by 6:00 PM.\nDrawing at 7:00 PM followed by raffles and fun!\nMusic by Eric Barbieri \nNeed not be present to win \nWinter Run Cards:  $10.00 Each \n1st Place:  $200\n2nd Place:  $150\n3rd Place:  $100\n4th Place:  $50\n5th Place:  $50 \nThe Fifield Sno Drovers would like to thank you for participating in the 2026 Winter Run.  The run will consist of one ticket entry for each stamped visit to a participating business.  Each sheet already has one FREE ticket for a chance to win.  You may purchase as many sheets as you would like to increase your odds of winning! \nThe Winter Run supports the sponsors\, so one purchase equals one stamp.  Your patronage is appreciated\, both during the run and after!  Sheets can be dropped off anytime during normal business hours at The Big Dipper\, Musky Jack’s\, Idle Hour\, or Moose Jaw\, or given to any club officer.  Sheets that are dropped off early must be in no later than 8:00 PM on Friday\, February 20th.  Otherwise\, turn in your sheets at the door by 6:00 PM at Sugarbush Bar\, prior to the Grand Finale on Saturday\, February 21st.  All winners will be notified and listed on our Facebook page. \nWe hope you have a safe and enjoyable ride! \n2026 Participating Businesses \n\nLoop A (Southeast)\n\nMoose Jaw Resort\nWintergreen Bar & Resort\nSugarBush “The Bush” Bar\nIdle Hour Resort\nMusky Jack’s\nRiverside Bar & Grill\nThe Big Dipper\nThe Black Bear\nSheri’s Pub & Grub\n\n\nLoop B (Southwest)\n\nKountry Kafe\nNorthwoods Supper Club\nMerri Cassidy’s\nSinger’s OK Corral\nSunset Bay\nCrane Chase Tavern\nThe Outhouse\nPolish Palace\nOxbo Resort\n\n\nLoop C (Northwest)\n\nThe Lanes Bar & Eatery\nJack’s Corner Bar\nLazy Loon Lodge\nHarv & Ben’s MT Pockets\nBobber’s on the Lake\nMaple Grove\nLena’s Northern Pines\nDouble D’s Pub & Pizza\nMidway Bar\n\n\nLoop D (Northeast)\n\nA&J’s Big Musky Lounge\nThe Birches\nPeninsula Pines\nDonner’s Bay\nGateway Lodge\nWilly’s Still\nSunken Horse Saloon\nBeaver’s Resort\nLena’s Bar & Grill\n\n\n\nRun sheets are available at all participating businesses but cannot be stamped until the event begins on January 15th.
URL:https://snodrovers.com/event/winter-run-grand-finale/
LOCATION:Sugarbush Bar\, N15764 Sugarbush Rd.\, Park Falls\, WI\, 54552\, United States
CATEGORIES:Special Event
ATTACH;FMTTYPE=image/png:https://snodrovers.com/wp-content/uploads/2022/12/Winter-Run-Grand-Finale.png
END:VEVENT
BEGIN:VEVENT
DTSTART;TZID=America/Chicago:20260321T170000
DTEND;TZID=America/Chicago:20260321T200000
DTSTAMP:20260425T054059
CREATED:20220829T182520Z
LAST-MODIFIED:20250708T213809Z
UID:923-1774112400-1774123200@snodrovers.com
SUMMARY:Workers Pizza Party
DESCRIPTION:Annual Workers Pizza Party –  \nLocation:  The Birches \n5:00PM – Drinks\n6:00PM – Dinner\n7:00PM – Raffle Drawing \nThis is our annual “Thank You” event for all the people who volunteered their time to the club this year\, whether it be grooming\, trail work\, helping at events\, or picking up door prizes.  All volunteer work counts and spouses are included!  The club pays for beverages and dinner. \nIf you volunteered time to the club this year\, please consider attending to allow us to say “Thank You!” \n 
URL:https://snodrovers.com/event/workers-pizza-party/
LOCATION:The Birches Resort\, 1727 N. Boot Lake Rd.\, Park Falls\, WI\, 54552
CATEGORIES:Special Event
ATTACH;FMTTYPE=image/png:https://snodrovers.com/wp-content/uploads/2022/08/Pizza-Party-2026.png
END:VEVENT
END:VCALENDAR