BEGIN:VCALENDAR
VERSION:2.0
PRODID:-//Fifield Sno Drovers Snowmobile Club - ECPv6.15.17.1//NONSGML v1.0//EN
CALSCALE:GREGORIAN
METHOD:PUBLISH
X-ORIGINAL-URL:https://snodrovers.com
X-WR-CALDESC:Events for Fifield Sno Drovers Snowmobile Club
REFRESH-INTERVAL;VALUE=DURATION:PT1H
X-Robots-Tag:noindex
X-PUBLISHED-TTL:PT1H
BEGIN:VTIMEZONE
TZID:America/Chicago
BEGIN:DAYLIGHT
TZOFFSETFROM:-0600
TZOFFSETTO:-0500
TZNAME:CDT
DTSTART:20210314T080000
END:DAYLIGHT
BEGIN:STANDARD
TZOFFSETFROM:-0500
TZOFFSETTO:-0600
TZNAME:CST
DTSTART:20211107T070000
END:STANDARD
BEGIN:DAYLIGHT
TZOFFSETFROM:-0600
TZOFFSETTO:-0500
TZNAME:CDT
DTSTART:20220313T080000
END:DAYLIGHT
BEGIN:STANDARD
TZOFFSETFROM:-0500
TZOFFSETTO:-0600
TZNAME:CST
DTSTART:20221106T070000
END:STANDARD
BEGIN:DAYLIGHT
TZOFFSETFROM:-0600
TZOFFSETTO:-0500
TZNAME:CDT
DTSTART:20230312T080000
END:DAYLIGHT
BEGIN:STANDARD
TZOFFSETFROM:-0500
TZOFFSETTO:-0600
TZNAME:CST
DTSTART:20231105T070000
END:STANDARD
END:VTIMEZONE
BEGIN:VEVENT
DTSTART;TZID=America/Chicago:20221203T103000
DTEND;TZID=America/Chicago:20221203T120000
DTSTAMP:20260423T234319
CREATED:20221110T175819Z
LAST-MODIFIED:20221110T175819Z
UID:1485-1670063400-1670068800@snodrovers.com
SUMMARY:Groomer Barn Cleanup
DESCRIPTION:There will be a groomer barn cleanup day on Saturday\, December 3rd.  We will begin at approximately 10:30am\,  immediately following our groomer refresher training.  Please help us clean out our area so it’s organized and ready to go for the season.
URL:https://snodrovers.com/event/groomer-barn-cleanup/
LOCATION:Pike Lake Firehall\, N14885 Shady Knoll Rd.\, Park Falls\, WI\, 54552\, United States
CATEGORIES:Trail Work
END:VEVENT
END:VCALENDAR