BEGIN:VCALENDAR
VERSION:2.0
PRODID:-//Fifield Sno Drovers Snowmobile Club - ECPv6.15.17.1//NONSGML v1.0//EN
CALSCALE:GREGORIAN
METHOD:PUBLISH
X-ORIGINAL-URL:https://snodrovers.com
X-WR-CALDESC:Events for Fifield Sno Drovers Snowmobile Club
REFRESH-INTERVAL;VALUE=DURATION:PT1H
X-Robots-Tag:noindex
X-PUBLISHED-TTL:PT1H
BEGIN:VTIMEZONE
TZID:America/Chicago
BEGIN:DAYLIGHT
TZOFFSETFROM:-0600
TZOFFSETTO:-0500
TZNAME:CDT
DTSTART:20240310T080000
END:DAYLIGHT
BEGIN:STANDARD
TZOFFSETFROM:-0500
TZOFFSETTO:-0600
TZNAME:CST
DTSTART:20241103T070000
END:STANDARD
BEGIN:DAYLIGHT
TZOFFSETFROM:-0600
TZOFFSETTO:-0500
TZNAME:CDT
DTSTART:20250309T080000
END:DAYLIGHT
BEGIN:STANDARD
TZOFFSETFROM:-0500
TZOFFSETTO:-0600
TZNAME:CST
DTSTART:20251102T070000
END:STANDARD
BEGIN:DAYLIGHT
TZOFFSETFROM:-0600
TZOFFSETTO:-0500
TZNAME:CDT
DTSTART:20260308T080000
END:DAYLIGHT
BEGIN:STANDARD
TZOFFSETFROM:-0500
TZOFFSETTO:-0600
TZNAME:CST
DTSTART:20261101T070000
END:STANDARD
END:VTIMEZONE
BEGIN:VEVENT
DTSTART;TZID=America/Chicago:20251219T090000
DTEND;TZID=America/Chicago:20251219T130000
DTSTAMP:20260421T092929
CREATED:20251211T030027Z
LAST-MODIFIED:20251216T223414Z
UID:3490-1766134800-1766149200@snodrovers.com
SUMMARY:Trail Work Day
DESCRIPTION:Trail Work Day –  \nMeet at the parking lot outside the dump at 9:00 AM. \nBring your SNOWMOBILE\, ATV/UTV\, gloves\, safety glasses\, clippers\, and chainsaws\, and come ready to work! \nNote: Lunch will be provided for those helping with the cleanup effort.
URL:https://snodrovers.com/event/trail-work-day-22/
LOCATION:Pike Lake Firehall\, N14885 Shady Knoll Rd.\, Park Falls\, WI\, 54552\, United States
CATEGORIES:Trail Work
ATTACH;FMTTYPE=image/png:https://snodrovers.com/wp-content/uploads/2024/06/Work-Day-2024.png
END:VEVENT
END:VCALENDAR