BEGIN:VCALENDAR
VERSION:2.0
PRODID:-//Fifield Sno Drovers Snowmobile Club - ECPv6.15.17.1//NONSGML v1.0//EN
CALSCALE:GREGORIAN
METHOD:PUBLISH
X-ORIGINAL-URL:https://snodrovers.com
X-WR-CALDESC:Events for Fifield Sno Drovers Snowmobile Club
REFRESH-INTERVAL;VALUE=DURATION:PT1H
X-Robots-Tag:noindex
X-PUBLISHED-TTL:PT1H
BEGIN:VTIMEZONE
TZID:America/Chicago
BEGIN:DAYLIGHT
TZOFFSETFROM:-0600
TZOFFSETTO:-0500
TZNAME:CDT
DTSTART:20210314T080000
END:DAYLIGHT
BEGIN:STANDARD
TZOFFSETFROM:-0500
TZOFFSETTO:-0600
TZNAME:CST
DTSTART:20211107T070000
END:STANDARD
BEGIN:DAYLIGHT
TZOFFSETFROM:-0600
TZOFFSETTO:-0500
TZNAME:CDT
DTSTART:20220313T080000
END:DAYLIGHT
BEGIN:STANDARD
TZOFFSETFROM:-0500
TZOFFSETTO:-0600
TZNAME:CST
DTSTART:20221106T070000
END:STANDARD
BEGIN:DAYLIGHT
TZOFFSETFROM:-0600
TZOFFSETTO:-0500
TZNAME:CDT
DTSTART:20230312T080000
END:DAYLIGHT
BEGIN:STANDARD
TZOFFSETFROM:-0500
TZOFFSETTO:-0600
TZNAME:CST
DTSTART:20231105T070000
END:STANDARD
BEGIN:DAYLIGHT
TZOFFSETFROM:-0600
TZOFFSETTO:-0500
TZNAME:CDT
DTSTART:20240310T080000
END:DAYLIGHT
BEGIN:STANDARD
TZOFFSETFROM:-0500
TZOFFSETTO:-0600
TZNAME:CST
DTSTART:20241103T070000
END:STANDARD
END:VTIMEZONE
BEGIN:VEVENT
DTSTART;TZID=America/Chicago:20230225T080000
DTEND;TZID=America/Chicago:20230225T170000
DTSTAMP:20260421T051929
CREATED:20230217T133028Z
LAST-MODIFIED:20230217T133028Z
UID:1801-1677312000-1677344400@snodrovers.com
SUMMARY:Braapfest Fundraiser
DESCRIPTION:The Sno Drovers will be serving food and selling raffle tickets at Braapfest.  Please consider volunteering a few hours of your time to help us raise money for trail maintenance.
URL:https://snodrovers.com/event/braapfest-fundraiser/
LOCATION:Springstead Lake Lodge\, 1065 N. Springstead Rd.\, Park Falls\, WI\, 54552
CATEGORIES:Special Event
ATTACH;FMTTYPE=image/png:https://snodrovers.com/wp-content/uploads/2023/02/Help-Needed.png
END:VEVENT
BEGIN:VEVENT
DTSTART;TZID=America/Chicago:20230217T110000
DTEND;TZID=America/Chicago:20230217T140000
DTSTAMP:20260421T051929
CREATED:20221221T183547Z
LAST-MODIFIED:20230217T132215Z
UID:1618-1676631600-1676642400@snodrovers.com
SUMMARY:Club Ride
DESCRIPTION:Club Ride –  \nThis will be a fish fry (or chicken dinner) ride to Jack’s Corner Bar in Park Falls. They serve both all day so we will leave from the Big Dipper at 11:00 AM. \nNote:  All club rides are subject to cancellation due to weather\, participation\, or other unforeseeable reasons.  Start and end times are approximate.
URL:https://snodrovers.com/event/club-ride-5/
LOCATION:WI
CATEGORIES:Club Ride
ATTACH;FMTTYPE=image/png:https://snodrovers.com/wp-content/uploads/2022/12/Club-Ride.png
END:VEVENT
BEGIN:VEVENT
DTSTART;TZID=America/Chicago:20230214T170000
DTEND;TZID=America/Chicago:20230214T210000
DTSTAMP:20260421T051929
CREATED:20230131T150849Z
LAST-MODIFIED:20230214T160021Z
UID:1769-1676394000-1676408400@snodrovers.com
SUMMARY:CANCELED - Club Ride
DESCRIPTION:CANCELED – Club Ride –  \nOur club ride on 2/14 is canceled due to weather. \nWe will be riding to our February club meeting at Riverz Edge. We will leave from the Big Dipper at 5:00 PM. Riverz Edge is planning on having a buffet prepared for our group. All members are welcome to attend the meeting and join in on the buffet\, not just those who are riding.
URL:https://snodrovers.com/event/club-ride-7/
LOCATION:WI
CATEGORIES:Club Ride
ATTACH;FMTTYPE=image/png:https://snodrovers.com/wp-content/uploads/2022/12/Club-Ride.png
END:VEVENT
BEGIN:VEVENT
DTSTART;TZID=America/Chicago:20230202T160000
DTEND;TZID=America/Chicago:20230202T200000
DTSTAMP:20260421T051929
CREATED:20221221T183436Z
LAST-MODIFIED:20230131T150631Z
UID:1616-1675353600-1675368000@snodrovers.com
SUMMARY:Club Ride
DESCRIPTION:Club Ride –  \nWe’ll take an evening ride to Bobbers on Butternut Lake where we’ll have dinner and then return home. Departure will be at 4:00 PM from the Big Dipper. Please let Mike Sloane know if you’re planning on attending this ride so he can call ahead to Bobbers and let them know how many to expect. \nNote:  All club rides are subject to cancellation due to weather\, participation\, or other unforeseeable reasons.  Start and end times are approximate.
URL:https://snodrovers.com/event/club-ride-4/
LOCATION:WI
CATEGORIES:Club Ride
ATTACH;FMTTYPE=image/png:https://snodrovers.com/wp-content/uploads/2022/12/Club-Ride.png
END:VEVENT
BEGIN:VEVENT
DTSTART;TZID=America/Chicago:20230126T100000
DTEND;TZID=America/Chicago:20230126T140000
DTSTAMP:20260421T051929
CREATED:20221221T183250Z
LAST-MODIFIED:20221221T183250Z
UID:1612-1674727200-1674741600@snodrovers.com
SUMMARY:Club Ride
DESCRIPTION:Club Ride –  \nPhillips Ride.  Harbor View for lunch. \nNote:  All club rides are subject to cancellation due to weather\, participation\, or other unforeseeable reasons.  Start and end times are approximate.
URL:https://snodrovers.com/event/club-ride-3/
LOCATION:WI
CATEGORIES:Club Ride
ATTACH;FMTTYPE=image/png:https://snodrovers.com/wp-content/uploads/2022/12/Club-Ride.png
END:VEVENT
BEGIN:VEVENT
DTSTART;TZID=America/Chicago:20230112T093000
DTEND;TZID=America/Chicago:20230112T140000
DTSTAMP:20260421T051929
CREATED:20221221T183100Z
LAST-MODIFIED:20230109T144731Z
UID:1610-1673515800-1673532000@snodrovers.com
SUMMARY:Club Ride
DESCRIPTION:Club Ride –  \nWinter Run Kickoff Ride – We will depart from the Big Dipper at 9:30am and ride toward Oxbo for lunch with stops at several locations on the way back. \nNote:  All club rides are subject to cancellation due to weather\, participation\, or other unforeseeable reasons.  Start and end times are approximate.
URL:https://snodrovers.com/event/club-ride-2/
LOCATION:WI
CATEGORIES:Club Ride
ATTACH;FMTTYPE=image/png:https://snodrovers.com/wp-content/uploads/2022/12/Club-Ride.png
END:VEVENT
BEGIN:VEVENT
DTSTART;VALUE=DATE:20230112
DTEND;VALUE=DATE:20230129
DTSTAMP:20260421T051929
CREATED:20220829T182637Z
LAST-MODIFIED:20230110T211104Z
UID:925-1673481600-1674950399@snodrovers.com
SUMMARY:Winter Run
DESCRIPTION:Fifield Sno Drovers 2023 Winter Run –  \nThursday\, January 12th – Saturday\, January 28th\nGrand Finale at Moose Jaw Resort at 6:00 PM\nDrawing at 7:00 PM followed by raffles and fun! \nNeed not be present to win \nWinter Run Cards:  $10.00 Donation Each \n1st Place:  $200\n2nd Place:  $150\n3rd Place:  $100\n4th Place:  $50\n5th Place:  $50 \nThe Fifield Sno Drovers would like to thank you for participating in the 2023 Winter Run.  This year the run will consist of one ticket entry for each stamped visit to a participating business.  Each sheet already has 1 free ticket for a chance to win.  You may purchase as many sheets as you would like to increase your odds of winning! \nPurchases at participating businesses when you stop for your stamp are not necessary\, but your patronage is appreciated.   Completed sheets can be dropped off anytime during normal business hours at The Big Dipper\, Musky Jack’s\, Idle Hour\, Dam Bar\, or given to any club officer.  Sheets that are dropped off early must be in no later than 8:00 PM on Friday\, January 27th.  Otherwise\, turn in your sheets at the door by 6:00 PM at Moose Jaw prior to the Grand Finale on Saturday\, January 28th.  All winners will be notified and listed on our Facebook page. \n2023 Participating Businesses \n\nIdle Hour Resort (Pike Lake)\nMusky Jack’s (Pike Lake)\nBig Dipper (Pike Lake)\nMoose Jaw (Pike Lake)\nDam Bar (Hwy 70)\nKountry Kafe (Fifield)\nNorthwoods Supper Club (Fifield)\nMerri Cassidy’s (Fifield)\nWintergreen Bar & Resort\nThe Birches (Springstead)\nPeninsula Pines Resort (Springstead)\nSpringstead Lake Lodge (Springstead)\nA&J’s Trading Post/Big Musky Lounge (Springstead)\nMT Pockets (Butternut)\nBobbers on the Lake (Butternut)\nMidway Bar (Butternut)\nBackwoods Curve (Butternut)\nMaple Grove (Butternut)\nPolish Palace (Solberg Lake)\nSunset Bay (Solberg Lake)\nComfort Cove (Solberg Lake)\nThe Lanes Bar & Eatery (Park Falls)\nJack’s Corner Bar (Park Falls)\nThe Outhouse (Park Falls)\nSinger’s OK Corral (Park Falls)\nRound-Up (Park Falls)\nRiverz Edge (Park Falls)\nDonner’s Bay (Mercer)\nBeaver Resort (Mercer)\nSunken Horse Saloon (Mercer)\nGateway Lodge & Resort (Mercer)\nHarbor View (Phillips)\nCrane Chase Tavern (Phillips)\nOxbo (Tuscobia West)\n\nRun sheets are available now at all participating businesses except Kountry Kafe but cannot be stamped until the event begins on January 12th.
URL:https://snodrovers.com/event/winter-run/
LOCATION:WI
CATEGORIES:Special Event
ATTACH;FMTTYPE=image/jpeg:https://snodrovers.com/wp-content/uploads/2022/08/Winter-Run-2023-Poster-scaled.jpg
END:VEVENT
BEGIN:VEVENT
DTSTART;TZID=America/Chicago:20230102T100000
DTEND;TZID=America/Chicago:20230102T140000
DTSTAMP:20260421T051929
CREATED:20221221T182831Z
LAST-MODIFIED:20221228T211057Z
UID:1606-1672653600-1672668000@snodrovers.com
SUMMARY:Club Ride
DESCRIPTION:Club Ride –  \nNew Year’s ride on Monday\, January 2nd.  Leave Moose Jaw at 10:00 AM\, ride a circular route returning for snacks and beverages following the ride.  No need to RSVP… just be ready to leave from Moose Jaw at 10:00 AM.  See you there! \nNote:  All club rides are subject to cancellation due to weather\, participation\, or other unforeseeable reasons.  Start and end times are approximate.
URL:https://snodrovers.com/event/club-ride/
LOCATION:WI
CATEGORIES:Club Ride
ATTACH;FMTTYPE=image/png:https://snodrovers.com/wp-content/uploads/2022/12/Club-Ride.png
END:VEVENT
BEGIN:VEVENT
DTSTART;TZID=America/Chicago:20221203T103000
DTEND;TZID=America/Chicago:20221203T120000
DTSTAMP:20260421T051929
CREATED:20221110T175819Z
LAST-MODIFIED:20221110T175819Z
UID:1485-1670063400-1670068800@snodrovers.com
SUMMARY:Groomer Barn Cleanup
DESCRIPTION:There will be a groomer barn cleanup day on Saturday\, December 3rd.  We will begin at approximately 10:30am\,  immediately following our groomer refresher training.  Please help us clean out our area so it’s organized and ready to go for the season.
URL:https://snodrovers.com/event/groomer-barn-cleanup/
LOCATION:Pike Lake Firehall\, N14885 Shady Knoll Rd.\, Park Falls\, WI\, 54552\, United States
CATEGORIES:Trail Work
END:VEVENT
BEGIN:VEVENT
DTSTART;TZID=America/Chicago:20221203T090000
DTEND;TZID=America/Chicago:20221203T103000
DTSTAMP:20260421T051929
CREATED:20221110T175549Z
LAST-MODIFIED:20221110T222821Z
UID:1483-1670058000-1670063400@snodrovers.com
SUMMARY:Groomer Refresher Training
DESCRIPTION:Groomers:  There will be a groomer refresher training session on Saturday\, December 3rd from 9am – 10:30am.  Meet at the Pike Lake Firehall.
URL:https://snodrovers.com/event/groomer-refresher-training/
LOCATION:Pike Lake Firehall\, N14885 Shady Knoll Rd.\, Park Falls\, WI\, 54552\, United States
CATEGORIES:Training
ATTACH;FMTTYPE=image/png:https://snodrovers.com/wp-content/uploads/2022/11/Groomer-Refresher-Training.png
END:VEVENT
BEGIN:VEVENT
DTSTART;TZID=America/Chicago:20221102T090000
DTEND;TZID=America/Chicago:20221102T130000
DTSTAMP:20260421T051929
CREATED:20220829T181816Z
LAST-MODIFIED:20220912T210249Z
UID:915-1667379600-1667394000@snodrovers.com
SUMMARY:Trail Work Day
DESCRIPTION:Trail Work Day –  \nMeet at the Big Dipper at 9:00 AM. \nBring your ATV/UTV\, gloves\, safety glasses\, clippers\, and chainsaws and come ready to work! \nLunch will be provided by the club.
URL:https://snodrovers.com/event/trail-work-day-8/
LOCATION:The Big Dipper\, N14492 Shady Knoll Rd.\, Park Falls\, WI\, 54552
CATEGORIES:Trail Work
ATTACH;FMTTYPE=image/png:https://snodrovers.com/wp-content/uploads/2022/08/Work-Day.png
END:VEVENT
END:VCALENDAR